BEGIN:VCALENDAR
VERSION:2.0
PRODID:-//Sister Bay Door County - ECPv6.15.20//NONSGML v1.0//EN
CALSCALE:GREGORIAN
METHOD:PUBLISH
X-WR-CALNAME:Sister Bay Door County
X-ORIGINAL-URL:https://sisterbay.com
X-WR-CALDESC:Events for Sister Bay Door County
REFRESH-INTERVAL;VALUE=DURATION:PT1H
X-Robots-Tag:noindex
X-PUBLISHED-TTL:PT1H
BEGIN:VTIMEZONE
TZID:America/Chicago
BEGIN:DAYLIGHT
TZOFFSETFROM:-0600
TZOFFSETTO:-0500
TZNAME:CDT
DTSTART:20240310T080000
END:DAYLIGHT
BEGIN:STANDARD
TZOFFSETFROM:-0500
TZOFFSETTO:-0600
TZNAME:CST
DTSTART:20241103T070000
END:STANDARD
BEGIN:DAYLIGHT
TZOFFSETFROM:-0600
TZOFFSETTO:-0500
TZNAME:CDT
DTSTART:20250309T080000
END:DAYLIGHT
BEGIN:STANDARD
TZOFFSETFROM:-0500
TZOFFSETTO:-0600
TZNAME:CST
DTSTART:20251102T070000
END:STANDARD
BEGIN:DAYLIGHT
TZOFFSETFROM:-0600
TZOFFSETTO:-0500
TZNAME:CDT
DTSTART:20260308T080000
END:DAYLIGHT
BEGIN:STANDARD
TZOFFSETFROM:-0500
TZOFFSETTO:-0600
TZNAME:CST
DTSTART:20261101T070000
END:STANDARD
END:VTIMEZONE
BEGIN:VEVENT
DTSTART;TZID=America/Chicago:20250809T090000
DTEND;TZID=America/Chicago:20250809T130000
DTSTAMP:20260421T091255
CREATED:20250602T192921Z
LAST-MODIFIED:20251104T160810Z
UID:10000640-1754730000-1754744400@sisterbay.com
SUMMARY:Open Aire Market
DESCRIPTION:Outdoor farm market featuring fresh farm products\, baked goods\, locally made art\, books & crafts\, live music\, and more!
URL:https://sisterbay.com/event/open-aire-market/2025-08-09/
LOCATION:Corner of the Past Museum\, 10310 Fieldcrest Road\, Sister Bay\, 54234\, United States
ATTACH;FMTTYPE=image/jpeg:https://sisterbay.com/wp-content/uploads/AdobeStock_15807850.jpg
ORGANIZER;CN="Sister Bay Historical Society":MAILTO:sisterbayhistoricalsociety@gmail.com
END:VEVENT
BEGIN:VEVENT
DTSTART;TZID=America/Chicago:20250809T090000
DTEND;TZID=America/Chicago:20250809T130000
DTSTAMP:20260421T091255
CREATED:20251104T160659Z
LAST-MODIFIED:20251104T161019Z
UID:10000975-1754730000-1754744400@sisterbay.com
SUMMARY:Open Aire Market
DESCRIPTION:Outdoor farm market featuring fresh farm products\, baked goods\, locally made art\, books & crafts\, live music\, and more!
URL:https://sisterbay.com/event/open-aire-market-2/2025-08-09/
LOCATION:Corner of the Past Museum\, 10310 Fieldcrest Road\, Sister Bay\, 54234\, United States
ATTACH;FMTTYPE=image/jpeg:https://sisterbay.com/wp-content/uploads/AdobeStock_15807850.jpg
ORGANIZER;CN="Sister Bay Historical Society":MAILTO:sisterbayhistoricalsociety@gmail.com
END:VEVENT
BEGIN:VEVENT
DTSTART;TZID=America/Chicago:20250809T090000
DTEND;TZID=America/Chicago:20250809T160000
DTSTAMP:20260421T091255
CREATED:20250422T155000Z
LAST-MODIFIED:20250422T155000Z
UID:10000011-1754730000-1754755200@sisterbay.com
SUMMARY:Door County Festival of Fine Arts
DESCRIPTION:The 22nd Annual Door County Festival of Fine Arts is set to take place on Saturday\, August 9\, from 9:00am to 4:00pm at Waterfront Park in Sister Bay. This year’s festival promises to be a spectacular showcase of talent\, featuring talented Wisconsin artists! \nYou will have the opportunity to explore a diverse range of mediums and styles from intricate paintings to exquisite pottery. \nOne of the highlights of the festival is the chance to win one of the stunning pieces of art donated by festival artists in our free raffle. \nFor families and kids of all ages\, this year the “Create Your Own” Activity Tent will again feature artist Gary Chaudoir’s beautiful stained-glass techniques\, as well as “Grab & Go” DIY Art Kits and tile/canvas art projects. \n\nWaterfront Park (Next to Village Hall)\nSaturday\, August 9\, 2025\n9am – 4pm \n\nCalling New Artists!\nApplications are now open!\nclick here to apply
URL:https://sisterbay.com/event/door-county-festival-of-fine-arts/
LOCATION:Waterfront Park\, 10693 WI-42\, Sister Bay\, WI\, 54234\, United States
ATTACH;FMTTYPE=image/jpeg:https://sisterbay.com/wp-content/uploads/Door-County-Festival-of-Fine-Arts3.jpeg
END:VEVENT
BEGIN:VEVENT
DTSTART;TZID=America/Chicago:20250809T190000
DTEND;TZID=America/Chicago:20250809T220000
DTSTAMP:20260421T091255
CREATED:20250522T210005Z
LAST-MODIFIED:20250522T210641Z
UID:10000136-1754766000-1754776800@sisterbay.com
SUMMARY:Live Music at Stabbur Beer Garden
DESCRIPTION:Come join us for live music at Stabbur Beer Garden. Enjoy a great mix of musicians and bands all playing out under the stars. For more information and a list of bands please visit us at https://aljohnsons.com/stabbur/
URL:https://sisterbay.com/event/live-music-at-stabbur-beer-garden-saturday/2025-08-09/
LOCATION:Stabbur Beer Garden\, 10698 North Bayshore Drive\, Sister Bay\, WI\, 54234\, United States
ATTACH;FMTTYPE=image/jpeg:https://sisterbay.com/wp-content/uploads/9929835C-3467-4152-9802-D70E285AA6EB.jpeg
END:VEVENT
BEGIN:VEVENT
DTSTART;TZID=America/Chicago:20250809T200000
DTEND;TZID=America/Chicago:20250809T230000
DTSTAMP:20260421T091255
CREATED:20250522T213844Z
LAST-MODIFIED:20250602T192128Z
UID:10000622-1754769600-1754780400@sisterbay.com
SUMMARY:Live Music - The Garage at Husby's
DESCRIPTION:
URL:https://sisterbay.com/event/live-music-the-garage-at-husbys/2025-08-09/
LOCATION:The Garage at Husby’s\, 10641 N Bay Shore Dr\, Sister Bay\, WI\, 54234\, United States
ATTACH;FMTTYPE=image/jpeg:https://sisterbay.com/wp-content/uploads/Husbys-Music-Schedule_25-scaled.jpg
END:VEVENT
END:VCALENDAR