BEGIN:VCALENDAR
VERSION:2.0
PRODID:-//Sister Bay Door County - ECPv6.15.20//NONSGML v1.0//EN
CALSCALE:GREGORIAN
METHOD:PUBLISH
X-ORIGINAL-URL:https://sisterbay.com
X-WR-CALDESC:Events for Sister Bay Door County
REFRESH-INTERVAL;VALUE=DURATION:PT1H
X-Robots-Tag:noindex
X-PUBLISHED-TTL:PT1H
BEGIN:VTIMEZONE
TZID:America/Chicago
BEGIN:DAYLIGHT
TZOFFSETFROM:-0600
TZOFFSETTO:-0500
TZNAME:CDT
DTSTART:20240310T080000
END:DAYLIGHT
BEGIN:STANDARD
TZOFFSETFROM:-0500
TZOFFSETTO:-0600
TZNAME:CST
DTSTART:20241103T070000
END:STANDARD
BEGIN:DAYLIGHT
TZOFFSETFROM:-0600
TZOFFSETTO:-0500
TZNAME:CDT
DTSTART:20250309T080000
END:DAYLIGHT
BEGIN:STANDARD
TZOFFSETFROM:-0500
TZOFFSETTO:-0600
TZNAME:CST
DTSTART:20251102T070000
END:STANDARD
BEGIN:DAYLIGHT
TZOFFSETFROM:-0600
TZOFFSETTO:-0500
TZNAME:CDT
DTSTART:20260308T080000
END:DAYLIGHT
BEGIN:STANDARD
TZOFFSETFROM:-0500
TZOFFSETTO:-0600
TZNAME:CST
DTSTART:20261101T070000
END:STANDARD
END:VTIMEZONE
BEGIN:VEVENT
DTSTART;VALUE=DATE:20250830
DTEND;VALUE=DATE:20250901
DTSTAMP:20260424T071106
CREATED:20250422T155248Z
LAST-MODIFIED:20250819T185220Z
UID:10000012-1756512000-1756684799@sisterbay.com
SUMMARY:Marina Fest - Labor Day Weekend
DESCRIPTION:Join us for live entertainment\, food\, beverages\, and fireworks! \nAugust 30-31\, 2025  \nNote: The Sister Bay Marina boat launch will be closed Saturday\, August 30. \nGet the full schedule here. 
URL:https://sisterbay.com/event/marina-fest-labor-day-weekend/
LOCATION:Marina Park\, 10733 N Bay Shore Dr\, Sister Bay\, WI\, 54234\, United States
ATTACH;FMTTYPE=image/jpeg:https://sisterbay.com/wp-content/uploads/2021-10-02-DanEggert-SisterBaySunset-16.jpg
END:VEVENT
BEGIN:VEVENT
DTSTART;TZID=America/Chicago:20250712T000000
DTEND;TZID=America/Chicago:20250712T000000
DTSTAMP:20260424T071106
CREATED:20250422T154741Z
LAST-MODIFIED:20250422T154741Z
UID:10000010-1752278400-1752278400@sisterbay.com
SUMMARY:Freedom Fest Fireworks!
DESCRIPTION:Fireworks at Dusk! \nMarina Park\nSaturday\, July 12\, 2025
URL:https://sisterbay.com/event/freedom-fest-fireworks/
LOCATION:Marina Park\, 10733 N Bay Shore Dr\, Sister Bay\, WI\, 54234\, United States
ATTACH;FMTTYPE=image/jpeg:https://sisterbay.com/wp-content/uploads/Freedom-Fest-Fireworks-.jpg
END:VEVENT
END:VCALENDAR