BEGIN:VCALENDAR
VERSION:2.0
PRODID:-//Sister Bay Door County - ECPv6.15.20//NONSGML v1.0//EN
CALSCALE:GREGORIAN
METHOD:PUBLISH
X-ORIGINAL-URL:https://sisterbay.com
X-WR-CALDESC:Events for Sister Bay Door County
REFRESH-INTERVAL;VALUE=DURATION:PT1H
X-Robots-Tag:noindex
X-PUBLISHED-TTL:PT1H
BEGIN:VTIMEZONE
TZID:America/Chicago
BEGIN:DAYLIGHT
TZOFFSETFROM:-0600
TZOFFSETTO:-0500
TZNAME:CDT
DTSTART:20240310T080000
END:DAYLIGHT
BEGIN:STANDARD
TZOFFSETFROM:-0500
TZOFFSETTO:-0600
TZNAME:CST
DTSTART:20241103T070000
END:STANDARD
BEGIN:DAYLIGHT
TZOFFSETFROM:-0600
TZOFFSETTO:-0500
TZNAME:CDT
DTSTART:20250309T080000
END:DAYLIGHT
BEGIN:STANDARD
TZOFFSETFROM:-0500
TZOFFSETTO:-0600
TZNAME:CST
DTSTART:20251102T070000
END:STANDARD
BEGIN:DAYLIGHT
TZOFFSETFROM:-0600
TZOFFSETTO:-0500
TZNAME:CDT
DTSTART:20260308T080000
END:DAYLIGHT
BEGIN:STANDARD
TZOFFSETFROM:-0500
TZOFFSETTO:-0600
TZNAME:CST
DTSTART:20261101T070000
END:STANDARD
END:VTIMEZONE
BEGIN:VEVENT
DTSTART;TZID=America/Chicago:20250813T180000
DTEND;TZID=America/Chicago:20250813T200000
DTSTAMP:20260421T105955
CREATED:20250422T153710Z
LAST-MODIFIED:20250618T205602Z
UID:10000040-1755108000-1755115200@sisterbay.com
SUMMARY:Sister Bay Concerts in the Park
DESCRIPTION:Waterfront Park with spectacular sunsets! \nBring your own chair or blanket to enjoy concerts and movies this summer in Sister Bay! \nSister Bay Performance Pavilion\nConcerts Wednesdays @ 6pm June 18 – August 13\, 2025\n \nConcert Lineup:\nJUNE 25 Copper Box\nJULY 2 Peoples Brothers Band\nJULY 9 Bittorf Brothers\nJULY 16 Brass Differential\nJULY 17 Kyle Megna & The Monsoons – RESCHEDULED FROM 6/18\nJULY 23 Birch Ceek 2:30\nJULY 23 Modern Day Drifters\nJULY 30 Doozey\nAUGUST 6 Birch Ceek 2:30\nAUGUST 6 Door County Jazz Festival\nAUGUST 13 7000apart
URL:https://sisterbay.com/event/sister-bay-concerts-in-the-park/2025-08-13/
LOCATION:Sister Bay Performance Pavilion\, 2362 Mill Rd\, Sister Bay\, WI\, 54234\, United States
ATTACH;FMTTYPE=image/jpeg:https://sisterbay.com/wp-content/uploads/Sister-Bay-Concerts-Movies-in-the-Park2.jpg
END:VEVENT
BEGIN:VEVENT
DTSTART;TZID=America/Chicago:20250806T180000
DTEND;TZID=America/Chicago:20250806T200000
DTSTAMP:20260421T105955
CREATED:20250422T153710Z
LAST-MODIFIED:20250618T205602Z
UID:10000039-1754503200-1754510400@sisterbay.com
SUMMARY:Sister Bay Concerts in the Park
DESCRIPTION:Waterfront Park with spectacular sunsets! \nBring your own chair or blanket to enjoy concerts and movies this summer in Sister Bay! \nSister Bay Performance Pavilion\nConcerts Wednesdays @ 6pm June 18 – August 13\, 2025\n \nConcert Lineup:\nJUNE 25 Copper Box\nJULY 2 Peoples Brothers Band\nJULY 9 Bittorf Brothers\nJULY 16 Brass Differential\nJULY 17 Kyle Megna & The Monsoons – RESCHEDULED FROM 6/18\nJULY 23 Birch Ceek 2:30\nJULY 23 Modern Day Drifters\nJULY 30 Doozey\nAUGUST 6 Birch Ceek 2:30\nAUGUST 6 Door County Jazz Festival\nAUGUST 13 7000apart
URL:https://sisterbay.com/event/sister-bay-concerts-in-the-park/2025-08-06/
LOCATION:Sister Bay Performance Pavilion\, 2362 Mill Rd\, Sister Bay\, WI\, 54234\, United States
ATTACH;FMTTYPE=image/jpeg:https://sisterbay.com/wp-content/uploads/Sister-Bay-Concerts-Movies-in-the-Park2.jpg
END:VEVENT
BEGIN:VEVENT
DTSTART;TZID=America/Chicago:20250730T180000
DTEND;TZID=America/Chicago:20250730T200000
DTSTAMP:20260421T105955
CREATED:20250422T153710Z
LAST-MODIFIED:20250618T205602Z
UID:10000038-1753898400-1753905600@sisterbay.com
SUMMARY:Sister Bay Concerts in the Park
DESCRIPTION:Waterfront Park with spectacular sunsets! \nBring your own chair or blanket to enjoy concerts and movies this summer in Sister Bay! \nSister Bay Performance Pavilion\nConcerts Wednesdays @ 6pm June 18 – August 13\, 2025\n \nConcert Lineup:\nJUNE 25 Copper Box\nJULY 2 Peoples Brothers Band\nJULY 9 Bittorf Brothers\nJULY 16 Brass Differential\nJULY 17 Kyle Megna & The Monsoons – RESCHEDULED FROM 6/18\nJULY 23 Birch Ceek 2:30\nJULY 23 Modern Day Drifters\nJULY 30 Doozey\nAUGUST 6 Birch Ceek 2:30\nAUGUST 6 Door County Jazz Festival\nAUGUST 13 7000apart
URL:https://sisterbay.com/event/sister-bay-concerts-in-the-park/2025-07-30/
LOCATION:Sister Bay Performance Pavilion\, 2362 Mill Rd\, Sister Bay\, WI\, 54234\, United States
ATTACH;FMTTYPE=image/jpeg:https://sisterbay.com/wp-content/uploads/Sister-Bay-Concerts-Movies-in-the-Park2.jpg
END:VEVENT
BEGIN:VEVENT
DTSTART;TZID=America/Chicago:20250723T180000
DTEND;TZID=America/Chicago:20250723T200000
DTSTAMP:20260421T105955
CREATED:20250422T153710Z
LAST-MODIFIED:20250618T205602Z
UID:10000037-1753293600-1753300800@sisterbay.com
SUMMARY:Sister Bay Concerts in the Park
DESCRIPTION:Waterfront Park with spectacular sunsets! \nBring your own chair or blanket to enjoy concerts and movies this summer in Sister Bay! \nSister Bay Performance Pavilion\nConcerts Wednesdays @ 6pm June 18 – August 13\, 2025\n \nConcert Lineup:\nJUNE 25 Copper Box\nJULY 2 Peoples Brothers Band\nJULY 9 Bittorf Brothers\nJULY 16 Brass Differential\nJULY 17 Kyle Megna & The Monsoons – RESCHEDULED FROM 6/18\nJULY 23 Birch Ceek 2:30\nJULY 23 Modern Day Drifters\nJULY 30 Doozey\nAUGUST 6 Birch Ceek 2:30\nAUGUST 6 Door County Jazz Festival\nAUGUST 13 7000apart
URL:https://sisterbay.com/event/sister-bay-concerts-in-the-park/2025-07-23/
LOCATION:Sister Bay Performance Pavilion\, 2362 Mill Rd\, Sister Bay\, WI\, 54234\, United States
ATTACH;FMTTYPE=image/jpeg:https://sisterbay.com/wp-content/uploads/Sister-Bay-Concerts-Movies-in-the-Park2.jpg
END:VEVENT
BEGIN:VEVENT
DTSTART;TZID=America/Chicago:20250717T180000
DTEND;TZID=America/Chicago:20250717T200000
DTSTAMP:20260421T105955
CREATED:20250422T153710Z
LAST-MODIFIED:20250618T205602Z
UID:10000757-1752775200-1752782400@sisterbay.com
SUMMARY:Sister Bay Concerts in the Park
DESCRIPTION:Waterfront Park with spectacular sunsets! \nBring your own chair or blanket to enjoy concerts and movies this summer in Sister Bay! \nSister Bay Performance Pavilion\nConcerts Wednesdays @ 6pm June 18 – August 13\, 2025\n \nConcert Lineup:\nJUNE 25 Copper Box\nJULY 2 Peoples Brothers Band\nJULY 9 Bittorf Brothers\nJULY 16 Brass Differential\nJULY 17 Kyle Megna & The Monsoons – RESCHEDULED FROM 6/18\nJULY 23 Birch Ceek 2:30\nJULY 23 Modern Day Drifters\nJULY 30 Doozey\nAUGUST 6 Birch Ceek 2:30\nAUGUST 6 Door County Jazz Festival\nAUGUST 13 7000apart
URL:https://sisterbay.com/event/sister-bay-concerts-in-the-park/2025-07-17/
LOCATION:Sister Bay Performance Pavilion\, 2362 Mill Rd\, Sister Bay\, WI\, 54234\, United States
ATTACH;FMTTYPE=image/jpeg:https://sisterbay.com/wp-content/uploads/Sister-Bay-Concerts-Movies-in-the-Park2.jpg
END:VEVENT
BEGIN:VEVENT
DTSTART;TZID=America/Chicago:20250716T180000
DTEND;TZID=America/Chicago:20250716T200000
DTSTAMP:20260421T105955
CREATED:20250422T153710Z
LAST-MODIFIED:20250618T205602Z
UID:10000036-1752688800-1752696000@sisterbay.com
SUMMARY:Sister Bay Concerts in the Park
DESCRIPTION:Waterfront Park with spectacular sunsets! \nBring your own chair or blanket to enjoy concerts and movies this summer in Sister Bay! \nSister Bay Performance Pavilion\nConcerts Wednesdays @ 6pm June 18 – August 13\, 2025\n \nConcert Lineup:\nJUNE 25 Copper Box\nJULY 2 Peoples Brothers Band\nJULY 9 Bittorf Brothers\nJULY 16 Brass Differential\nJULY 17 Kyle Megna & The Monsoons – RESCHEDULED FROM 6/18\nJULY 23 Birch Ceek 2:30\nJULY 23 Modern Day Drifters\nJULY 30 Doozey\nAUGUST 6 Birch Ceek 2:30\nAUGUST 6 Door County Jazz Festival\nAUGUST 13 7000apart
URL:https://sisterbay.com/event/sister-bay-concerts-in-the-park/2025-07-16/
LOCATION:Sister Bay Performance Pavilion\, 2362 Mill Rd\, Sister Bay\, WI\, 54234\, United States
ATTACH;FMTTYPE=image/jpeg:https://sisterbay.com/wp-content/uploads/Sister-Bay-Concerts-Movies-in-the-Park2.jpg
END:VEVENT
BEGIN:VEVENT
DTSTART;TZID=America/Chicago:20250709T180000
DTEND;TZID=America/Chicago:20250709T200000
DTSTAMP:20260421T105955
CREATED:20250422T153710Z
LAST-MODIFIED:20250618T205602Z
UID:10000035-1752084000-1752091200@sisterbay.com
SUMMARY:Sister Bay Concerts in the Park
DESCRIPTION:Waterfront Park with spectacular sunsets! \nBring your own chair or blanket to enjoy concerts and movies this summer in Sister Bay! \nSister Bay Performance Pavilion\nConcerts Wednesdays @ 6pm June 18 – August 13\, 2025\n \nConcert Lineup:\nJUNE 25 Copper Box\nJULY 2 Peoples Brothers Band\nJULY 9 Bittorf Brothers\nJULY 16 Brass Differential\nJULY 17 Kyle Megna & The Monsoons – RESCHEDULED FROM 6/18\nJULY 23 Birch Ceek 2:30\nJULY 23 Modern Day Drifters\nJULY 30 Doozey\nAUGUST 6 Birch Ceek 2:30\nAUGUST 6 Door County Jazz Festival\nAUGUST 13 7000apart
URL:https://sisterbay.com/event/sister-bay-concerts-in-the-park/2025-07-09/
LOCATION:Sister Bay Performance Pavilion\, 2362 Mill Rd\, Sister Bay\, WI\, 54234\, United States
ATTACH;FMTTYPE=image/jpeg:https://sisterbay.com/wp-content/uploads/Sister-Bay-Concerts-Movies-in-the-Park2.jpg
END:VEVENT
BEGIN:VEVENT
DTSTART;TZID=America/Chicago:20250702T180000
DTEND;TZID=America/Chicago:20250702T200000
DTSTAMP:20260421T105955
CREATED:20250422T153710Z
LAST-MODIFIED:20250618T205602Z
UID:10000034-1751479200-1751486400@sisterbay.com
SUMMARY:Sister Bay Concerts in the Park
DESCRIPTION:Waterfront Park with spectacular sunsets! \nBring your own chair or blanket to enjoy concerts and movies this summer in Sister Bay! \nSister Bay Performance Pavilion\nConcerts Wednesdays @ 6pm June 18 – August 13\, 2025\n \nConcert Lineup:\nJUNE 25 Copper Box\nJULY 2 Peoples Brothers Band\nJULY 9 Bittorf Brothers\nJULY 16 Brass Differential\nJULY 17 Kyle Megna & The Monsoons – RESCHEDULED FROM 6/18\nJULY 23 Birch Ceek 2:30\nJULY 23 Modern Day Drifters\nJULY 30 Doozey\nAUGUST 6 Birch Ceek 2:30\nAUGUST 6 Door County Jazz Festival\nAUGUST 13 7000apart
URL:https://sisterbay.com/event/sister-bay-concerts-in-the-park/2025-07-02/
LOCATION:Sister Bay Performance Pavilion\, 2362 Mill Rd\, Sister Bay\, WI\, 54234\, United States
ATTACH;FMTTYPE=image/jpeg:https://sisterbay.com/wp-content/uploads/Sister-Bay-Concerts-Movies-in-the-Park2.jpg
END:VEVENT
BEGIN:VEVENT
DTSTART;TZID=America/Chicago:20250625T180000
DTEND;TZID=America/Chicago:20250625T200000
DTSTAMP:20260421T105955
CREATED:20250422T153710Z
LAST-MODIFIED:20250618T205602Z
UID:10000033-1750874400-1750881600@sisterbay.com
SUMMARY:Sister Bay Concerts in the Park
DESCRIPTION:Waterfront Park with spectacular sunsets! \nBring your own chair or blanket to enjoy concerts and movies this summer in Sister Bay! \nSister Bay Performance Pavilion\nConcerts Wednesdays @ 6pm June 18 – August 13\, 2025\n \nConcert Lineup:\nJUNE 25 Copper Box\nJULY 2 Peoples Brothers Band\nJULY 9 Bittorf Brothers\nJULY 16 Brass Differential\nJULY 17 Kyle Megna & The Monsoons – RESCHEDULED FROM 6/18\nJULY 23 Birch Ceek 2:30\nJULY 23 Modern Day Drifters\nJULY 30 Doozey\nAUGUST 6 Birch Ceek 2:30\nAUGUST 6 Door County Jazz Festival\nAUGUST 13 7000apart
URL:https://sisterbay.com/event/sister-bay-concerts-in-the-park/2025-06-25/
LOCATION:Sister Bay Performance Pavilion\, 2362 Mill Rd\, Sister Bay\, WI\, 54234\, United States
ATTACH;FMTTYPE=image/jpeg:https://sisterbay.com/wp-content/uploads/Sister-Bay-Concerts-Movies-in-the-Park2.jpg
END:VEVENT
END:VCALENDAR